BEGIN:VCALENDAR
VERSION:2.0
PRODID:-//Tlou Cholo Foundation - ECPv6.15.15//NONSGML v1.0//EN
CALSCALE:GREGORIAN
METHOD:PUBLISH
X-WR-CALNAME:Tlou Cholo Foundation
X-ORIGINAL-URL:https://tloucholo.org.za
X-WR-CALDESC:Events for Tlou Cholo Foundation
REFRESH-INTERVAL;VALUE=DURATION:PT1H
X-Robots-Tag:noindex
X-PUBLISHED-TTL:PT1H
BEGIN:VTIMEZONE
TZID:Africa/Johannesburg
BEGIN:STANDARD
TZOFFSETFROM:+0200
TZOFFSETTO:+0200
TZNAME:SAST
DTSTART:20240101T000000
END:STANDARD
END:VTIMEZONE
BEGIN:VEVENT
DTSTART;TZID=Africa/Johannesburg:20251015T190000
DTEND;TZID=Africa/Johannesburg:20251015T190000
DTSTAMP:20260419T184406
CREATED:20251022T093629Z
LAST-MODIFIED:20251022T093706Z
UID:2472-1760554800-1760554800@tloucholo.org.za
SUMMARY:The Fatherland: The Revolutionary Story of TT Cholo
DESCRIPTION:
URL:https://tloucholo.org.za/event/the-fatherland-the-revolutionary-story-of-tt-cholo-6/
LOCATION:Opera Theatre\, Pretoria\, South Africa
CATEGORIES:THE FATHERLAND
ATTACH;FMTTYPE=image/jpeg:https://tloucholo.org.za/wp-content/uploads/2025/10/WhatsApp-Image-2025-10-22-at-09.39.44.jpeg
END:VEVENT
BEGIN:VEVENT
DTSTART;TZID=Africa/Johannesburg:20251012T150000
DTEND;TZID=Africa/Johannesburg:20251012T150000
DTSTAMP:20260419T184406
CREATED:20251022T093344Z
LAST-MODIFIED:20251022T093344Z
UID:2468-1760281200-1760281200@tloucholo.org.za
SUMMARY:The Fatherland: The Revolutionary Story of TT Cholo
DESCRIPTION:
URL:https://tloucholo.org.za/event/the-fatherland-the-revolutionary-story-of-tt-cholo-4/
LOCATION:Opera Theatre\, Pretoria\, South Africa
CATEGORIES:THE FATHERLAND
ATTACH;FMTTYPE=image/jpeg:https://tloucholo.org.za/wp-content/uploads/2025/10/WhatsApp-Image-2025-10-22-at-09.39.44.jpeg
END:VEVENT
BEGIN:VEVENT
DTSTART;TZID=Africa/Johannesburg:20251011T150000
DTEND;TZID=Africa/Johannesburg:20251011T190000
DTSTAMP:20260419T184406
CREATED:20251022T093221Z
LAST-MODIFIED:20251022T093231Z
UID:2465-1760194800-1760209200@tloucholo.org.za
SUMMARY:The Fatherland: The Revolutionary Story of TT Cholo
DESCRIPTION:
URL:https://tloucholo.org.za/event/the-fatherland-the-revolutionary-story-of-tt-cholo-3/
LOCATION:Opera Theatre\, Pretoria\, South Africa
CATEGORIES:THE FATHERLAND
ATTACH;FMTTYPE=image/jpeg:https://tloucholo.org.za/wp-content/uploads/2025/10/WhatsApp-Image-2025-10-22-at-09.39.44.jpeg
END:VEVENT
BEGIN:VEVENT
DTSTART;TZID=Africa/Johannesburg:20251010T190000
DTEND;TZID=Africa/Johannesburg:20251010T190000
DTSTAMP:20260419T184406
CREATED:20251022T092630Z
LAST-MODIFIED:20251022T093029Z
UID:2458-1760122800-1760122800@tloucholo.org.za
SUMMARY:The Fatherland: The Revolutionary Story of TT Cholo
DESCRIPTION:Full day tech & run
URL:https://tloucholo.org.za/event/the-fatherland-the-revolutionary-story-of-tt-cholo-2/
LOCATION:Opera Theatre\, Pretoria\, South Africa
CATEGORIES:THE FATHERLAND
ATTACH;FMTTYPE=image/jpeg:https://tloucholo.org.za/wp-content/uploads/2025/10/WhatsApp-Image-2025-10-22-at-09.39.44.jpeg
END:VEVENT
BEGIN:VEVENT
DTSTART;TZID=Africa/Johannesburg:20251006T190000
DTEND;TZID=Africa/Johannesburg:20251006T190000
DTSTAMP:20260419T184406
CREATED:20251022T090620Z
LAST-MODIFIED:20251022T091339Z
UID:2451-1759777200-1759777200@tloucholo.org.za
SUMMARY:The Fatherland: The Revolutionary Story of TT Cholo
DESCRIPTION:Full day tech
URL:https://tloucholo.org.za/event/the-fatherland-the-revolutionary-story-of-tt-cholo/
LOCATION:Opera Theatre\, Pretoria\, South Africa
CATEGORIES:THE FATHERLAND
END:VEVENT
END:VCALENDAR